BEGIN:VCALENDAR
VERSION:2.0
PRODID:-//Mairie de Drap - ECPv5.14.0.4//NONSGML v1.0//EN
CALSCALE:GREGORIAN
METHOD:PUBLISH
X-WR-CALNAME:Mairie de Drap
X-ORIGINAL-URL:https://www.ville-drap.fr
X-WR-CALDESC:évènements pour Mairie de Drap
BEGIN:VTIMEZONE
TZID:UTC
BEGIN:STANDARD
TZOFFSETFROM:+0000
TZOFFSETTO:+0000
TZNAME:UTC
DTSTART:20240101T000000
END:STANDARD
END:VTIMEZONE
BEGIN:VEVENT
DTSTART;TZID=UTC:20240624T213000
DTEND;TZID=UTC:20240624T223000
DTSTAMP:20260421T143605
CREATED:20240531T091821Z
LAST-MODIFIED:20240531T091821Z
UID:16012-1719264600-1719268200@www.ville-drap.fr
SUMMARY:Fête patronale
DESCRIPTION:Du vendredi 21 au lundi 24 juin\nLundi 24 juin \n21 h 45 : Feu de la Saint Jean-Baptiste Place de la Libération \nSécurité assurée – Infos au 04 97 00 06 30
URL:https://www.ville-drap.fr/events/fete-patronale-6/
END:VEVENT
END:VCALENDAR