BEGIN:VCALENDAR
VERSION:2.0
PRODID:-//Mairie de Drap - ECPv5.14.0.4//NONSGML v1.0//EN
CALSCALE:GREGORIAN
METHOD:PUBLISH
X-WR-CALNAME:Mairie de Drap
X-ORIGINAL-URL:https://www.ville-drap.fr
X-WR-CALDESC:évènements pour Mairie de Drap
BEGIN:VTIMEZONE
TZID:UTC
BEGIN:STANDARD
TZOFFSETFROM:+0000
TZOFFSETTO:+0000
TZNAME:UTC
DTSTART:20240101T000000
END:STANDARD
END:VTIMEZONE
BEGIN:VEVENT
DTSTART;TZID=UTC:20240608T180000
DTEND;TZID=UTC:20240608T233000
DTSTAMP:20260420T220144
CREATED:20240523T074906Z
LAST-MODIFIED:20240527T120620Z
UID:15980-1717869600-1717889400@www.ville-drap.fr
SUMMARY:Gala de boxe: Fight in Drap - Round 4
DESCRIPTION:Samedi 8 juin\n18 h 00\nPlace Clemenceau\nTarif unique : 15€ – Billetterie en ligne en cliquant ici\nRenseignements : 06 10 67 24 21 \nPlus d’infos\nLa Commune de Drap et Niss Noble art vous proposent\, dans le cadre de leur 4ème gala organisé conjointement\, avec le soutien de multiples partenaires\, 10 combats amateur et 2 combats professionnels.
URL:https://www.ville-drap.fr/events/gala-de-boxe-fight-in-drap-round-4/
END:VEVENT
END:VCALENDAR