BEGIN:VCALENDAR
VERSION:2.0
PRODID:-//Mairie de Drap - ECPv5.14.0.4//NONSGML v1.0//EN
CALSCALE:GREGORIAN
METHOD:PUBLISH
X-WR-CALNAME:Mairie de Drap
X-ORIGINAL-URL:https://www.ville-drap.fr
X-WR-CALDESC:évènements pour Mairie de Drap
BEGIN:VTIMEZONE
TZID:UTC
BEGIN:STANDARD
TZOFFSETFROM:+0000
TZOFFSETTO:+0000
TZNAME:UTC
DTSTART:20250101T000000
END:STANDARD
END:VTIMEZONE
BEGIN:VEVENT
DTSTART;TZID=UTC:20250405T183000
DTEND;TZID=UTC:20250405T233000
DTSTAMP:20260423T045451
CREATED:20250317T155643Z
LAST-MODIFIED:20250317T155643Z
UID:16832-1743877800-1743895800@www.ville-drap.fr
SUMMARY:Gala de boxe : Fight in Drap round 5
DESCRIPTION:Samedi 5 avril\n18 h 30\nEspace Jean Ferrat\nTarif unique : 20€ – Billetterie en ligne en cliquant ici :\nRenseignements : 06 10 67 24 21 \nPlus d’infos…\nLa Commune de Drap et Niss Noble art vous proposent\, dans le cadre de leur 5ème gala organisé conjointement\, avec le soutien de multiples partenaires\, une exhibition de boxe éducative et 14 combats amateur.
URL:https://www.ville-drap.fr/events/gala-de-boxe-fight-in-drap-round-5/
END:VEVENT
END:VCALENDAR