BEGIN:VCALENDAR
VERSION:2.0
PRODID:-//Mairie de Drap - ECPv5.14.0.4//NONSGML v1.0//EN
CALSCALE:GREGORIAN
METHOD:PUBLISH
X-WR-CALNAME:Mairie de Drap
X-ORIGINAL-URL:https://www.ville-drap.fr
X-WR-CALDESC:évènements pour Mairie de Drap
BEGIN:VTIMEZONE
TZID:UTC
BEGIN:STANDARD
TZOFFSETFROM:+0000
TZOFFSETTO:+0000
TZNAME:UTC
DTSTART:20240101T000000
END:STANDARD
END:VTIMEZONE
BEGIN:VEVENT
DTSTART;TZID=UTC:20240926T203000
DTEND;TZID=UTC:20240926T220000
DTSTAMP:20260423T062413
CREATED:20240906T144141Z
LAST-MODIFIED:20240906T144141Z
UID:16323-1727382600-1727388000@www.ville-drap.fr
SUMMARY:Jeudis cinéma de Drap : "A l’ancienne"
DESCRIPTION:Jeudi 26 septembre\n20 h 30\nEspace Jean Ferrat\n5 €\, 3€ pour les – de 14 ans\nBilletterie uniquement sur place 30 min avant le début de la séance \n\nPlus d’infos…\n1h 30min | Comédie\nDe Hervé Mimran\nAvec Didier Bourdon\, Gérard Darmon\, Chantal Lauby \nDeux amis de toujours vivent sur une petite ile de Bretagne et découvrent que l’un des habitants a gagné le gros lot à la loterie nationale. Les deux vieilles canailles se mettent alors à la recherche du mystérieux gagnant afin de s’assurer ses faveurs avant que la nouvelle ne se répande. Mais lorsqu’ils découvrent que ce dernier est mort\, ticket gagnant en main\, ils décident d’organiser avec la complicité de tout le village une grande arnaque au loto pour prendre sa place. \nPour visionner la bande-annonce\, cliquez ici. \n  \n  \n  \n 
URL:https://www.ville-drap.fr/events/jeudis-cinema-de-drap-a-lancienne/
END:VEVENT
END:VCALENDAR