BEGIN:VCALENDAR
VERSION:2.0
PRODID:-//Mairie de Drap - ECPv5.14.0.4//NONSGML v1.0//EN
CALSCALE:GREGORIAN
METHOD:PUBLISH
X-WR-CALNAME:Mairie de Drap
X-ORIGINAL-URL:https://www.ville-drap.fr
X-WR-CALDESC:évènements pour Mairie de Drap
BEGIN:VTIMEZONE
TZID:UTC
BEGIN:STANDARD
TZOFFSETFROM:+0000
TZOFFSETTO:+0000
TZNAME:UTC
DTSTART:20250101T000000
END:STANDARD
END:VTIMEZONE
BEGIN:VEVENT
DTSTART;TZID=UTC:20250227T203000
DTEND;TZID=UTC:20250227T230000
DTSTAMP:20260425T151016
CREATED:20250128T101640Z
LAST-MODIFIED:20250306T144237Z
UID:16699-1740688200-1740697200@www.ville-drap.fr
SUMMARY:Jeudis cinéma de Drap : "Avec ou sans enfants?"
DESCRIPTION:Jeudi 27 février\n20 h 30\nEspace Jean Ferrat\n5 €\, 3€ pour les – de 14 ans\nBilletterie uniquement sur place 30 min avant le début de la séance \n\nPlus d’infos…\n\n1h 26min | Comédie \nDe Elsa Blayau \nAvec Bertrand Usclat\, Rayane Bensetti\, Tiphaine Daviot \nQuand Pio et Anaïs annoncent leur mariage à leurs amis\, c’est clair : ce sera SANS enfants. Trois jours de fête et de Prosecco en perspective ! Mais quand leur bande de potes débarque AVEC les enfants\, pensant pouvoir les cacher aux mariés\, les catastrophes vont (très) vite arriver… \nPour visionner la bande-annonce\, cliquez ici. \n\n  \n  \n 
URL:https://www.ville-drap.fr/events/jeudis-cinema-de-drap-avec-ou-sans-enfants/
END:VEVENT
END:VCALENDAR