BEGIN:VCALENDAR
VERSION:2.0
PRODID:-//Mairie de Drap - ECPv5.14.0.4//NONSGML v1.0//EN
CALSCALE:GREGORIAN
METHOD:PUBLISH
X-WR-CALNAME:Mairie de Drap
X-ORIGINAL-URL:https://www.ville-drap.fr
X-WR-CALDESC:évènements pour Mairie de Drap
BEGIN:VTIMEZONE
TZID:Europe/Paris
BEGIN:DAYLIGHT
TZOFFSETFROM:+0100
TZOFFSETTO:+0200
TZNAME:CEST
DTSTART:20180325T010000
END:DAYLIGHT
BEGIN:STANDARD
TZOFFSETFROM:+0200
TZOFFSETTO:+0100
TZNAME:CET
DTSTART:20181028T010000
END:STANDARD
END:VTIMEZONE
BEGIN:VEVENT
DTSTART;TZID=Europe/Paris:20180712T203000
DTEND;TZID=Europe/Paris:20180712T223000
DTSTAMP:20260425T184313
CREATED:20180612T155008Z
LAST-MODIFIED:20180612T155009Z
UID:6413-1531427400-1531434600@www.ville-drap.fr
SUMMARY:Jeudis cinéma de Drap : "Le doudou"
DESCRIPTION:Jeudi 12 juillet\n20 h 30\nEspace Jean Ferrat\nEntrée 5 €\, 3€ pour les moins de 14 ans\nBilletterie uniquement sur place dès 20 h  \nPlus d’infos…\nDe Philippe Mechelen\, Julien Hervé Avec Kad Merad\, Malik Bentalha\, Guy Marchand\nMichel a perdu le doudou de sa fille à l’aéroport de Roissy. Il dépose un avis de recherche avec une récompense. Sofiane\, employé à l’aéroport\, y voit l’occasion de se faire un peu d’argent et prétend avoir retrouvé la peluche. Le mensonge révélé\, Michel et Sofiane se lancent malgré tout sur les traces du doudou. Une mission plus compliquée que prévu… \nPour visionner la bande-annonce\, cliquez ici
URL:https://www.ville-drap.fr/events/jeudis-cinema-de-drap-doudou/
END:VEVENT
END:VCALENDAR