BEGIN:VCALENDAR
VERSION:2.0
PRODID:-//Mairie de Drap - ECPv5.14.0.4//NONSGML v1.0//EN
CALSCALE:GREGORIAN
METHOD:PUBLISH
X-WR-CALNAME:Mairie de Drap
X-ORIGINAL-URL:https://www.ville-drap.fr
X-WR-CALDESC:évènements pour Mairie de Drap
BEGIN:VTIMEZONE
TZID:UTC
BEGIN:STANDARD
TZOFFSETFROM:+0000
TZOFFSETTO:+0000
TZNAME:UTC
DTSTART:20240101T000000
END:STANDARD
END:VTIMEZONE
BEGIN:VEVENT
DTSTART;TZID=UTC:20240912T203000
DTEND;TZID=UTC:20240912T223000
DTSTAMP:20260422T235645
CREATED:20240906T143848Z
LAST-MODIFIED:20240906T144330Z
UID:16319-1726173000-1726180200@www.ville-drap.fr
SUMMARY:Jeudis cinéma de Drap : "Fêlés"
DESCRIPTION:Jeudi 12 septembre\n20 h 30\nEspace Jean Ferrat\n5 €\, 3€ pour les – de 14 ans\nBilletterie uniquement sur place 30 min avant le début de la séance \n\nPlus d’infos…\n1h 31min | Comédie dramatique \nDe Christophe Duthuron \nAvec Charlotte De Turckheim\, Bernard Le Coq\, Pierre Richard \n  \nL’Arc-en-ciel est un authentique lieu associatif à Marmande qui accueille des personnes ordinaires mais violentées par la vie. Ses adhérents se soutiennent mutuellement dans leur lutte contre les difficultés quotidiennes. Quand on menace de les expulser\, un élan de solidarité s’organise autour de Pierre\, le fondateur\, pour sauver cette maison d’accueil unique. \n  \nPour visionner la bande-annonce\, cliquez ici. \n  \n  \n  \n 
URL:https://www.ville-drap.fr/events/jeudis-cinema-de-drap-feles/
END:VEVENT
END:VCALENDAR