BEGIN:VCALENDAR
VERSION:2.0
PRODID:-//Mairie de Drap - ECPv5.14.0.4//NONSGML v1.0//EN
CALSCALE:GREGORIAN
METHOD:PUBLISH
X-WR-CALNAME:Mairie de Drap
X-ORIGINAL-URL:https://www.ville-drap.fr
X-WR-CALDESC:évènements pour Mairie de Drap
BEGIN:VTIMEZONE
TZID:Europe/Paris
BEGIN:DAYLIGHT
TZOFFSETFROM:+0100
TZOFFSETTO:+0200
TZNAME:CEST
DTSTART:20180325T010000
END:DAYLIGHT
BEGIN:STANDARD
TZOFFSETFROM:+0200
TZOFFSETTO:+0100
TZNAME:CET
DTSTART:20181028T010000
END:STANDARD
END:VTIMEZONE
BEGIN:VEVENT
DTSTART;TZID=Europe/Paris:20180111T203000
DTEND;TZID=Europe/Paris:20180111T223000
DTSTAMP:20260421T204147
CREATED:20171228T095632Z
LAST-MODIFIED:20180105T112554Z
UID:5449-1515702600-1515709800@www.ville-drap.fr
SUMMARY:Jeudis cinéma de Drap : « Garde alternée »
DESCRIPTION: \nJeudi 11 janvier\n20 h 30\n Espace Jean Ferrat\n Entrée 5 €\, 3 € – de 14 ans\n Billetterie uniquement sur place dès 20 h 00 \nPlus d’infos…\nUn film d’Alexandra Lecère avec Didier Bourdon\, Valérie Bonneton\, Isabelle Carré\nSandrine\, mariée depuis 15 ans\, deux enfants\, découvre que son mari Jean a une relation extraconjugale. Passé le choc\, elle décide de rencontrer sa rivale\, Virginie et lui propose un étrange marché : prendre Jean en garde alternée. Les deux femmes se mettent d’accord et imposent à leur homme ce nouveau mode de vie. \nPour visionner la bande annonce\, cliquez ici
URL:https://www.ville-drap.fr/events/jeudis-cinema-de-drap-garde-alternee/
END:VEVENT
END:VCALENDAR