BEGIN:VCALENDAR
VERSION:2.0
PRODID:-//Mairie de Drap - ECPv5.14.0.4//NONSGML v1.0//EN
CALSCALE:GREGORIAN
METHOD:PUBLISH
X-WR-CALNAME:Mairie de Drap
X-ORIGINAL-URL:https://www.ville-drap.fr
X-WR-CALDESC:évènements pour Mairie de Drap
BEGIN:VTIMEZONE
TZID:Europe/Paris
BEGIN:DAYLIGHT
TZOFFSETFROM:+0100
TZOFFSETTO:+0200
TZNAME:CEST
DTSTART:20180325T010000
END:DAYLIGHT
BEGIN:STANDARD
TZOFFSETFROM:+0200
TZOFFSETTO:+0100
TZNAME:CET
DTSTART:20181028T010000
END:STANDARD
END:VTIMEZONE
BEGIN:VEVENT
DTSTART;TZID=Europe/Paris:20180426T203000
DTEND;TZID=Europe/Paris:20180426T223000
DTSTAMP:20260424T040714
CREATED:20180321T150020Z
LAST-MODIFIED:20180321T150020Z
UID:5964-1524774600-1524781800@www.ville-drap.fr
SUMMARY:Jeudis cinéma de Drap : "Gaston Lagaffe"
DESCRIPTION:Jeudi 26 avril\n20 h 30\n Espace Jean Ferrat\n Entrée 5 €\, 3 € pour les moins de 14 ans\n Billetterie uniquement sur place 30 minutes avant le début de la séance \n  \nPlus d’infos…\nComédie française de Pierre-François Martin-Laval\nAvec Théo Fernandez\, Pierre-François Martin-Laval\, Arnaud Ducret\nNationalité FrançaisM’enfin ! Gaston débarque en stage au Peticoin.\nAvec ces inventions délirantes\, il va changer le quotidien de ses collègues. Chat\, mouette\, vache\, et gaffophone seront au rendez-vous des aventures de notre bricoleur de génie qui ne pense qu’à faire le bien autour de lui mais qui a le don d’énerver Prunelle son patron. Les gaffes à gogo de notre empêcheur de travailler en rond pourront-elles éviter que le redoutable Monsieur de Mesmaeker rachète le Peticoin ? \nPour visualiser la bande-annonce\, cliquez ici
URL:https://www.ville-drap.fr/events/jeudis-cinema-de-drap-gaston-lagaffe/
END:VEVENT
END:VCALENDAR