BEGIN:VCALENDAR
VERSION:2.0
PRODID:-//Mairie de Drap - ECPv5.14.0.4//NONSGML v1.0//EN
CALSCALE:GREGORIAN
METHOD:PUBLISH
X-WR-CALNAME:Mairie de Drap
X-ORIGINAL-URL:https://www.ville-drap.fr
X-WR-CALDESC:évènements pour Mairie de Drap
BEGIN:VTIMEZONE
TZID:UTC
BEGIN:STANDARD
TZOFFSETFROM:+0000
TZOFFSETTO:+0000
TZNAME:UTC
DTSTART:20240101T000000
END:STANDARD
END:VTIMEZONE
BEGIN:VEVENT
DTSTART;TZID=UTC:20240613T203000
DTEND;TZID=UTC:20240613T220000
DTSTAMP:20260421T034517
CREATED:20240531T092130Z
LAST-MODIFIED:20240531T092206Z
UID:16014-1718310600-1718316000@www.ville-drap.fr
SUMMARY:Jeudis cinéma de Drap : "Le deuxième acte"
DESCRIPTION:Jeudi 13 juin\n20 h 30\nEspace Jean Ferrat\n5 €\, 3€ pour les – de 14 ans\nBilletterie uniquement sur place 30 min avant le début de la séance \n\nPlus d’infos…\n1h 20min | Comédie \nDe Quentin Dupieux \nAvec Léa Seydoux\, Louis Garrel\, Vincent Lindon \n  \nFlorence veut présenter David\, l’homme dont elle est follement amoureuse\, à son père Guillaume. Mais David n’est pas attiré par Florence et souhaite s’en débarrasser en la jetant dans les bras de son ami Willy. Les quatre personnages se retrouvent dans un restaurant au milieu de nulle part. \n  \n  \nPour visionner la bande-annonce\, cliquez ici. \n  \n  \n  \n 
URL:https://www.ville-drap.fr/events/jeudis-cinema-de-drap-ici-et-la-bas-copy/
END:VEVENT
END:VCALENDAR