BEGIN:VCALENDAR
VERSION:2.0
PRODID:-//Mairie de Drap - ECPv5.14.0.4//NONSGML v1.0//EN
CALSCALE:GREGORIAN
METHOD:PUBLISH
X-WR-CALNAME:Mairie de Drap
X-ORIGINAL-URL:https://www.ville-drap.fr
X-WR-CALDESC:évènements pour Mairie de Drap
BEGIN:VTIMEZONE
TZID:UTC
BEGIN:STANDARD
TZOFFSETFROM:+0000
TZOFFSETTO:+0000
TZNAME:UTC
DTSTART:20250101T000000
END:STANDARD
END:VTIMEZONE
BEGIN:VEVENT
DTSTART;TZID=UTC:20250213T203000
DTEND;TZID=UTC:20250213T223000
DTSTAMP:20260425T042329
CREATED:20250128T101239Z
LAST-MODIFIED:20250128T101258Z
UID:16693-1739478600-1739485800@www.ville-drap.fr
SUMMARY:Jeudis cinéma de Drap : "God save the Tuche"
DESCRIPTION:Jeudi 13 février\n20 h 30\nEspace Jean Ferrat\n5 €\, 3€ pour les – de 14 ans\nBilletterie uniquement sur place 30 min avant le début de la séance \n\nPlus d’infos…\n\n1h 35min | Comédie \nDe Jean-Paul Rouve \n Avec Jean-Paul Rouve\, Isabelle Nanty\, Claire Nadeau \nLes Tuche mènent à nouveau une vie paisible à Bouzolles. Mais lorsque le petit-fils de Jeff et Cathy est sélectionné pour un stage de football à Londres\, c’est l’occasion rêvée pour toute la famille d’aller découvrir l’Angleterre et de rencontrer la famille royale. Entre chocs culturels et maladresses\, les Tuche se retrouvent plongés au cœur de la royauté anglaise\, qui n’est pas prête d’oublier leur séjour ! \nPour visionner la bande-annonce\, cliquez ici.  \n\n  \n  \n 
URL:https://www.ville-drap.fr/events/jeudis-cinema-de-drap-jamais-sans-mon-psy-copy/
END:VEVENT
END:VCALENDAR