BEGIN:VCALENDAR
VERSION:2.0
PRODID:-//Mairie de Drap - ECPv5.14.0.4//NONSGML v1.0//EN
CALSCALE:GREGORIAN
METHOD:PUBLISH
X-WR-CALNAME:Mairie de Drap
X-ORIGINAL-URL:https://www.ville-drap.fr
X-WR-CALDESC:évènements pour Mairie de Drap
BEGIN:VTIMEZONE
TZID:UTC
BEGIN:STANDARD
TZOFFSETFROM:+0000
TZOFFSETTO:+0000
TZNAME:UTC
DTSTART:20240101T000000
END:STANDARD
END:VTIMEZONE
BEGIN:VEVENT
DTSTART;TZID=UTC:20240627T203000
DTEND;TZID=UTC:20240627T223000
DTSTAMP:20260421T185815
CREATED:20240531T092332Z
LAST-MODIFIED:20240531T115556Z
UID:16017-1719520200-1719527400@www.ville-drap.fr
SUMMARY:Jeudis cinéma de Drap : "La Petite Vadrouille"
DESCRIPTION:Jeudi 27 juin\n20 h 30\nEspace Jean Ferrat\n5 €\, 3€ pour les – de 14 ans\nBilletterie uniquement sur place 30 min avant le début de la séance \n\nPlus d’infos…\n1h 36min | Comédie \nDe Bruno Podalydès \nAvec Daniel Auteuil\, Sandrine Kiberlain\, Denis Podalydès \nJustine\, son mari et toute leur bande d’amis trouvent une solution pour résoudre leurs problèmes d’argent : organiser une fausse croisière romantique pour Franck\, un gros investisseur\, qui cherche à séduire une femme. \nPour visionner la bande-annonce\, cliquez ici. \n  \n  \n  \n 
URL:https://www.ville-drap.fr/events/jeudis-cinema-de-drap-le-deuxieme-acte-copy/
END:VEVENT
END:VCALENDAR