BEGIN:VCALENDAR
VERSION:2.0
PRODID:-//Mairie de Drap - ECPv5.14.0.4//NONSGML v1.0//EN
CALSCALE:GREGORIAN
METHOD:PUBLISH
X-WR-CALNAME:Mairie de Drap
X-ORIGINAL-URL:https://www.ville-drap.fr
X-WR-CALDESC:évènements pour Mairie de Drap
BEGIN:VTIMEZONE
TZID:UTC
BEGIN:STANDARD
TZOFFSETFROM:+0000
TZOFFSETTO:+0000
TZNAME:UTC
DTSTART:20240101T000000
END:STANDARD
END:VTIMEZONE
BEGIN:VEVENT
DTSTART;TZID=UTC:20241212T203000
DTEND;TZID=UTC:20241212T230000
DTSTAMP:20260424T182019
CREATED:20241125T130932Z
LAST-MODIFIED:20241125T130932Z
UID:16604-1734035400-1734044400@www.ville-drap.fr
SUMMARY:Jeudis cinéma de Drap : "Le panache"
DESCRIPTION:Jeudi 12 décembre\n20 h 30\nEspace Jean Ferrat\n5 €\, 3€ pour les – de 14 ans\nBilletterie uniquement sur place 30 min avant le début de la séance \n\nPlus d’infos…\nDe Jennifer Devoldere\nAvec Joachim Arseguel\, José Garcia\, Aure Atika\n—\nColin\, 14 ans\, fait son entrée dans un nouveau collège et il flippe : comment s’en sortir quand\, comme lui\, on est bègue ? Sa rencontre avec Monsieur Devarseau\, charismatique prof de français\, va le pousser à affronter ses peurs et sortir de son isolement. Maintenant Colin a une bande de copains et un projet : monter sur scène pour jouer Cyrano devant toute l’école.\nPour visionner la bande-annonce\, cliquez ici. \n  \n  \n  \n 
URL:https://www.ville-drap.fr/events/jeudis-cinema-de-drap-le-panache/
END:VEVENT
END:VCALENDAR