BEGIN:VCALENDAR
VERSION:2.0
PRODID:-//Mairie de Drap - ECPv5.14.0.4//NONSGML v1.0//EN
CALSCALE:GREGORIAN
METHOD:PUBLISH
X-WR-CALNAME:Mairie de Drap
X-ORIGINAL-URL:https://www.ville-drap.fr
X-WR-CALDESC:évènements pour Mairie de Drap
BEGIN:VTIMEZONE
TZID:Europe/Paris
BEGIN:DAYLIGHT
TZOFFSETFROM:+0100
TZOFFSETTO:+0200
TZNAME:CEST
DTSTART:20180325T010000
END:DAYLIGHT
BEGIN:STANDARD
TZOFFSETFROM:+0200
TZOFFSETTO:+0100
TZNAME:CET
DTSTART:20181028T010000
END:STANDARD
END:VTIMEZONE
BEGIN:VEVENT
DTSTART;TZID=Europe/Paris:20180524T203000
DTEND;TZID=Europe/Paris:20180524T230000
DTSTAMP:20260424T190009
CREATED:20180418T154026Z
LAST-MODIFIED:20180418T154026Z
UID:6158-1527193800-1527202800@www.ville-drap.fr
SUMMARY:Jeudis cinéma de Drap : "M.I.L.F."
DESCRIPTION:Jeudi 24 mai\n20 h 30\n Espace Jean Ferrat\n 5 €\, 3 € pour les moins de 14 ans\n Billetterie uniquement sur place à partir de 20 h \n  \nPlus d’infos…\nComédie française d’Axelle Laffont Avec A.Laffont\, V.Ledoyen\, Marie-Josée Croze\nTrois amies d’enfance partent dans le Sud vider la maison de l’une d’entre elles\, afin de la vendre. Pendant ces quelques jours\, elles vont devenir les cibles privilégiées de trois jeunes garçons\, pour qui ces femmes seules\, approchant la quarantaine\, sont bien plus séduisantes que les filles de leur âge… Cécile\, Sonia et Elise découvrent avec bonheur\,qu’elles sont des MILF ! \nPour visonner la bande-annonce\, cliquez ici.
URL:https://www.ville-drap.fr/events/jeudis-cinema-de-drap-m-i-l-f/
END:VEVENT
END:VCALENDAR