BEGIN:VCALENDAR
VERSION:2.0
PRODID:-//Mairie de Drap - ECPv5.14.0.4//NONSGML v1.0//EN
CALSCALE:GREGORIAN
METHOD:PUBLISH
X-WR-CALNAME:Mairie de Drap
X-ORIGINAL-URL:https://www.ville-drap.fr
X-WR-CALDESC:évènements pour Mairie de Drap
BEGIN:VTIMEZONE
TZID:Europe/Paris
BEGIN:DAYLIGHT
TZOFFSETFROM:+0100
TZOFFSETTO:+0200
TZNAME:CEST
DTSTART:20180325T010000
END:DAYLIGHT
BEGIN:STANDARD
TZOFFSETFROM:+0200
TZOFFSETTO:+0100
TZNAME:CET
DTSTART:20181028T010000
END:STANDARD
END:VTIMEZONE
BEGIN:VEVENT
DTSTART;TZID=Europe/Paris:20180322T203000
DTEND;TZID=Europe/Paris:20180322T230000
DTSTAMP:20260423T053821
CREATED:20180213T170843Z
LAST-MODIFIED:20180213T170843Z
UID:5744-1521750600-1521759600@www.ville-drap.fr
SUMMARY:Jeudis cinéma de Drap : "Madame Mills\, une voisine si parfaite"
DESCRIPTION:Jeudi 22 Mars\n20 h 30\n Espace Jean Ferrat\n Entrée 5 €\, 3 € – de 14 ans\n Billetterie uniquement sur place dès 20 h 00 \n  \nPlus d’infos…\nComédie de Sophie Marceau avec Sophie Marceau\, Pierre Richard\nHélène est éditrice de romans à l’eau de rose et mène une vie rythmée par le travail. Elle se réfugie dans les livres\, persuadée que la vie y est plus belle que dans la réalité. Se complaisant dans une certaine routine\, son quotidien va être bouleversé par l’installation d’une nouvelle voisine\, Madame Mills. Cette vieille américaine excentrique va prendre rapidement une importance insoupçonnée dans la vie d’Hélène. Mais les apparences sont parfois trompeuses… \nPour visionner la bande-annonce\, cliquez ici
URL:https://www.ville-drap.fr/events/jeudis-cinema-de-drap-madame-mills-voisine-parfaite/
END:VEVENT
END:VCALENDAR