BEGIN:VCALENDAR
VERSION:2.0
PRODID:-//Mairie de Drap - ECPv5.14.0.4//NONSGML v1.0//EN
CALSCALE:GREGORIAN
METHOD:PUBLISH
X-WR-CALNAME:Mairie de Drap
X-ORIGINAL-URL:https://www.ville-drap.fr
X-WR-CALDESC:évènements pour Mairie de Drap
BEGIN:VTIMEZONE
TZID:UTC
BEGIN:STANDARD
TZOFFSETFROM:+0000
TZOFFSETTO:+0000
TZNAME:UTC
DTSTART:20240101T000000
END:STANDARD
END:VTIMEZONE
BEGIN:VEVENT
DTSTART;TZID=UTC:20240725T203000
DTEND;TZID=UTC:20240725T233000
DTSTAMP:20260422T102327
CREATED:20240625T101134Z
LAST-MODIFIED:20240625T101204Z
UID:16133-1721939400-1721950200@www.ville-drap.fr
SUMMARY:Jeudis cinéma de Drap : "Moi\, moche et méchant 4 "
DESCRIPTION:Jeudi 25 juillet\n20 h 30\nEspace Jean Ferrat\n5 €\, 3€ pour les – de 14 ans\nBilletterie uniquement sur place 30 min avant le début de la séance \n\nPlus d’infos…\n1h 34min | Aventure\, Animation\, Comédie\, Famille \nDe Patrick Delage\, Chris Renaud \n| Avec Gad Elmaleh\, Steve Carell\, Audrey Lamy \n  \nPour la première fois en sept ans\, Gru\, le super méchant le plus populaire du monde\, devenu super agent de l’Agence Vigilance de Lynx\, revient dans un nouveau chapitre aussi hilarant que chaotique de la célébrissime saga d’illumination : MOI\, MOCHE ET MÉCHANT 4. \nGru\, Lucy et les filles\, Margo\, Edith et Agnès accueillent le petit dernier de la famille\, Gru Junior\, qui semble n’avoir qu’une passion : faire tourner son père en bourrique. Mais Gru est confronté à un nouvel ennemi Maxime Le Mal qui\, avec l’aide de sa petite amie\, la fatale Valentina\, va obliger toute la famille à fuir. \n  \nPour visionner la bande-annonce\, cliquez ici. \n  \n  \n  \n 
URL:https://www.ville-drap.fr/events/jeudis-cinema-de-drap-moi-moche-et-mechant-4/
END:VEVENT
END:VCALENDAR