BEGIN:VCALENDAR
VERSION:2.0
PRODID:-//Mairie de Drap - ECPv5.14.0.4//NONSGML v1.0//EN
CALSCALE:GREGORIAN
METHOD:PUBLISH
X-WR-CALNAME:Mairie de Drap
X-ORIGINAL-URL:https://www.ville-drap.fr
X-WR-CALDESC:évènements pour Mairie de Drap
BEGIN:VTIMEZONE
TZID:Europe/Paris
BEGIN:DAYLIGHT
TZOFFSETFROM:+0100
TZOFFSETTO:+0200
TZNAME:CEST
DTSTART:20170326T010000
END:DAYLIGHT
BEGIN:STANDARD
TZOFFSETFROM:+0200
TZOFFSETTO:+0100
TZNAME:CET
DTSTART:20171029T010000
END:STANDARD
END:VTIMEZONE
BEGIN:VEVENT
DTSTART;TZID=Europe/Paris:20171026T180000
DTEND;TZID=Europe/Paris:20171026T180000
DTSTAMP:20260420T010229
CREATED:20171004T092113Z
LAST-MODIFIED:20171004T101221Z
UID:4904-1509040800-1509040800@www.ville-drap.fr
SUMMARY:Jeudis cinéma de Drap : "Le monde secret des emojis"
DESCRIPTION:Jeudi 26 octobre\n18 h 00\n Espace Jean-Ferrat\n Entrée 5 €\, 3 € – de 14 ans\n Billetterie uniquement sur place dès 17 h 30 \n  \nPlus d’infos…\nFilm d’animation (comédie) de Tony Leondis avec T.J. Miller\, James Corden\, Anna Faris (1h26)\nAu sein de l’appli de messagerie\, la cité de Textopolis fourmille d’activité : c’est là que vivent tous les émojis\, chacun porté par l’espoir d’être choisi par l’utilisateur du téléphone… Dans ce monde\, chaque émoji ne possède qu’une seule expression faciale. Seul Bof\, un émoji exubérant né sans aucun filtre\, dispose de multiples expressions. Rêvant désespérément de devenir « normal »\, pareil aux autres émojis\, Bof demande de l’aide à son meilleur ami\, Tope-Là\, et à la célèbre casseuse de codes\, Rebelle. Tous trois s’embarquent dans une « app-venture » épique d’appli en appli… \nPour découvrir la bande-annonce\, cliquez ici
URL:https://www.ville-drap.fr/events/jeudis-cinema-de-drap-monde-secret-emojis/
END:VEVENT
END:VCALENDAR