BEGIN:VCALENDAR
VERSION:2.0
PRODID:-//Mairie de Drap - ECPv5.14.0.4//NONSGML v1.0//EN
CALSCALE:GREGORIAN
METHOD:PUBLISH
X-WR-CALNAME:Mairie de Drap
X-ORIGINAL-URL:https://www.ville-drap.fr
X-WR-CALDESC:évènements pour Mairie de Drap
BEGIN:VTIMEZONE
TZID:Europe/Paris
BEGIN:DAYLIGHT
TZOFFSETFROM:+0100
TZOFFSETTO:+0200
TZNAME:CEST
DTSTART:20170326T010000
END:DAYLIGHT
BEGIN:STANDARD
TZOFFSETFROM:+0200
TZOFFSETTO:+0100
TZNAME:CET
DTSTART:20171029T010000
END:STANDARD
END:VTIMEZONE
BEGIN:VEVENT
DTSTART;TZID=Europe/Paris:20171012T203000
DTEND;TZID=Europe/Paris:20171012T230000
DTSTAMP:20260419T171316
CREATED:20171004T091250Z
LAST-MODIFIED:20171004T091250Z
UID:4899-1507840200-1507849200@www.ville-drap.fr
SUMMARY:Jeudis cinéma de Drap : "Le sens de la fête"
DESCRIPTION:Jeudi 12 octobre\n20 h 30\n Espace Jean-Ferrat\n Entrée 5 €\, 3 € – de 14 ans\n Billetterie uniquement sur place dès 20 h 00 \nPlus d’infos…\nDe Eric Toledano\, Olivier Nakache Avec Jean-Pierre Bacri\, Jean-Paul Rouve\, Gilles Lellouche (1h57)\nMax est traiteur depuis trente ans. Des fêtes il en a organisé des centaines\, il est même un peu au bout du parcours. Aujourd’hui c’est un sublime mariage dans un château du 17ème siècle\, un de plus\, celui de Pierre et Héléna. Comme d’habitude\, Max a tout coordonné : il a recruté sa brigade de serveurs\, de cuisiniers\, de plongeurs\, il a conseillé un photographe\, réservé l’orchestre\, arrangé la décoration florale\, bref tous les ingrédients sont réunis pour que cette fête soit réussie… Mais … \nPour visionner la bande-annonce\, cliquez ici 
URL:https://www.ville-drap.fr/events/jeudis-cinema-de-drap-sens-de-fete/
END:VEVENT
END:VCALENDAR