BEGIN:VCALENDAR
VERSION:2.0
PRODID:-//Mairie de Drap - ECPv5.14.0.4//NONSGML v1.0//EN
CALSCALE:GREGORIAN
METHOD:PUBLISH
X-WR-CALNAME:Mairie de Drap
X-ORIGINAL-URL:https://www.ville-drap.fr
X-WR-CALDESC:évènements pour Mairie de Drap
BEGIN:VTIMEZONE
TZID:Europe/Paris
BEGIN:DAYLIGHT
TZOFFSETFROM:+0100
TZOFFSETTO:+0200
TZNAME:CEST
DTSTART:20180325T010000
END:DAYLIGHT
BEGIN:STANDARD
TZOFFSETFROM:+0200
TZOFFSETTO:+0100
TZNAME:CET
DTSTART:20181028T010000
END:STANDARD
END:VTIMEZONE
BEGIN:VEVENT
DTSTART;TZID=Europe/Paris:20180208T203000
DTEND;TZID=Europe/Paris:20180208T230000
DTSTAMP:20260422T072709
CREATED:20180109T153515Z
LAST-MODIFIED:20180109T153515Z
UID:5529-1518121800-1518130800@www.ville-drap.fr
SUMMARY:Jeudis cinéma de Drap : « Les Tuche 3 »
DESCRIPTION:Jeudi 8 février\n20 h 30\n Espace Jean Ferrat\n Entrée 5 €\, 3 € – de 14 ans\n Billetterie uniquement sur place dès 20 h 00 \n  \nPlus d’infos…\nFilm français d’Olivier Baroux\, avec Jean-Paul Rouve\, Isabelle Nanty\, Claire Nadeau\nDevenu maire\, Jeff Tuche se réjouit de l’arrivée du TGV dans son cher village. Malheureusement\, le train à grande vitesse ne fait que passer\, sans s’arrêter à Bouzolles. Déçu\, Jeff Tuche tente de joindre le président de la république pour que son village ne reste pas isolé du reste du territoire. Sans réponse de l’Elysée\, Jeff ne voit plus qu’une seule solution pour se faire entendre: se présenter à l’élection présidentielle… Profitant de circonstances politiques imprévisibles\, Jeff Tuche et toute sa famille vont s’installer à l’Elysée pour une mission à haut risque : gouverner la France. Leur devise : liberté\, égalité\, fraternituche. \nPour visionner la bande annonce\, cliquez ici
URL:https://www.ville-drap.fr/events/jeudis-cinema-de-drap-tuche-3/
END:VEVENT
END:VCALENDAR