BEGIN:VCALENDAR
VERSION:2.0
PRODID:-//Mairie de Drap - ECPv5.14.0.4//NONSGML v1.0//EN
CALSCALE:GREGORIAN
METHOD:PUBLISH
X-WR-CALNAME:Mairie de Drap
X-ORIGINAL-URL:https://www.ville-drap.fr
X-WR-CALDESC:évènements pour Mairie de Drap
BEGIN:VTIMEZONE
TZID:UTC
BEGIN:STANDARD
TZOFFSETFROM:+0000
TZOFFSETTO:+0000
TZNAME:UTC
DTSTART:20250101T000000
END:STANDARD
END:VTIMEZONE
BEGIN:VEVENT
DTSTART;TZID=UTC:20250308T100000
DTEND;TZID=UTC:20250308T160000
DTSTAMP:20260425T143111
CREATED:20250214T163419Z
LAST-MODIFIED:20250224T140354Z
UID:16757-1741428000-1741449600@www.ville-drap.fr
SUMMARY:Journée "Jeux bouquine" et Défi bleu
DESCRIPTION:Samedi 8 mars\n\n10 h 00 – 16 h 00 : \nVente et échange de jouets\, jeux\, livres\, DVD\,\nCD\, Vinyles- Inscriptions au 04 93 54 46 38/04 93 80 87 76\nEntrée libre \n\n11 h 00 – 12 h 00 : Zumba party au profit de la Ligue contre le cancer. \nAnimée par Let’s dance. Inscriptions : 07 86 71 93 10
URL:https://www.ville-drap.fr/events/journee-jeux-bouquine-et-defi-bleu/
END:VEVENT
END:VCALENDAR