BEGIN:VCALENDAR
VERSION:2.0
PRODID:-//Mairie de Drap - ECPv5.14.0.4//NONSGML v1.0//EN
CALSCALE:GREGORIAN
METHOD:PUBLISH
X-WR-CALNAME:Mairie de Drap
X-ORIGINAL-URL:https://www.ville-drap.fr
X-WR-CALDESC:évènements pour Mairie de Drap
BEGIN:VTIMEZONE
TZID:UTC
BEGIN:STANDARD
TZOFFSETFROM:+0000
TZOFFSETTO:+0000
TZNAME:UTC
DTSTART:20250101T000000
END:STANDARD
END:VTIMEZONE
BEGIN:VEVENT
DTSTART;TZID=UTC:20250618T180000
DTEND;TZID=UTC:20250618T183000
DTSTAMP:20260421T220420
CREATED:20250613T081606Z
LAST-MODIFIED:20250613T090137Z
UID:17025-1750269600-1750271400@www.ville-drap.fr
SUMMARY:Journée Nationale Commémorative de l’Appel historique du Général De Gaulle à refuser la défaite et à poursuivre le combat contre l’ennemi
DESCRIPTION:Mercredi 18 juin\n18 h 00\nMonument aux Morts (Place Clemenceau)
URL:https://www.ville-drap.fr/events/journee-nationale-commemorative-de-lappel-historique-du-general-de-gaulle-a-refuser-la-defaite-et-a-poursuivre-le-combat-contre-lennemi-6/
END:VEVENT
END:VCALENDAR