BEGIN:VCALENDAR
VERSION:2.0
PRODID:-//Mairie de Drap - ECPv5.14.0.4//NONSGML v1.0//EN
CALSCALE:GREGORIAN
METHOD:PUBLISH
X-WR-CALNAME:Mairie de Drap
X-ORIGINAL-URL:https://www.ville-drap.fr
X-WR-CALDESC:évènements pour Mairie de Drap
BEGIN:VTIMEZONE
TZID:UTC
BEGIN:STANDARD
TZOFFSETFROM:+0000
TZOFFSETTO:+0000
TZNAME:UTC
DTSTART:20240101T000000
END:STANDARD
END:VTIMEZONE
BEGIN:VEVENT
DTSTART;TZID=UTC:20240527T180000
DTEND;TZID=UTC:20240527T183000
DTSTAMP:20260420T052827
CREATED:20240514T122621Z
LAST-MODIFIED:20240514T122739Z
UID:15938-1716832800-1716834600@www.ville-drap.fr
SUMMARY:Journée Nationale de la Résistance
DESCRIPTION:Lundi 27 Mai 2024\n18 h 00\nMonument aux morts\, Place Georges Clemenceau \n  \n\n 
URL:https://www.ville-drap.fr/events/journee-nationale-de-la-resistance-7/
END:VEVENT
END:VCALENDAR