BEGIN:VCALENDAR
VERSION:2.0
PRODID:-//Mairie de Drap - ECPv5.14.0.4//NONSGML v1.0//EN
CALSCALE:GREGORIAN
METHOD:PUBLISH
X-WR-CALNAME:Mairie de Drap
X-ORIGINAL-URL:https://www.ville-drap.fr
X-WR-CALDESC:évènements pour Mairie de Drap
BEGIN:VTIMEZONE
TZID:UTC
BEGIN:STANDARD
TZOFFSETFROM:+0000
TZOFFSETTO:+0000
TZNAME:UTC
DTSTART:20250101T000000
END:STANDARD
END:VTIMEZONE
BEGIN:VEVENT
DTSTART;TZID=UTC:20250527T180000
DTEND;TZID=UTC:20250527T180000
DTSTAMP:20260422T023451
CREATED:20250509T130322Z
LAST-MODIFIED:20250509T131243Z
UID:16965-1748368800-1748368800@www.ville-drap.fr
SUMMARY:Journée Nationale de la Résistance
DESCRIPTION:Mardi 27 Mai 2025\n18 h 00\nMonument aux morts\, Place Georges Clemenceau \n  \n\n 
URL:https://www.ville-drap.fr/events/journee-nationale-de-la-resistance-8/
END:VEVENT
END:VCALENDAR