BEGIN:VCALENDAR
VERSION:2.0
PRODID:-//Mairie de Drap - ECPv5.14.0.4//NONSGML v1.0//EN
CALSCALE:GREGORIAN
METHOD:PUBLISH
X-WR-CALNAME:Mairie de Drap
X-ORIGINAL-URL:https://www.ville-drap.fr
X-WR-CALDESC:évènements pour Mairie de Drap
BEGIN:VTIMEZONE
TZID:UTC
BEGIN:STANDARD
TZOFFSETFROM:+0000
TZOFFSETTO:+0000
TZNAME:UTC
DTSTART:20240101T000000
END:STANDARD
END:VTIMEZONE
BEGIN:VEVENT
DTSTART;TZID=UTC:20240925T180000
DTEND;TZID=UTC:20240925T190000
DTSTAMP:20260423T050111
CREATED:20240920T084303Z
LAST-MODIFIED:20240920T084303Z
UID:16359-1727287200-1727290800@www.ville-drap.fr
SUMMARY:Journée nationale d’hommage aux Harkis  et autres membres des formations supplétives
DESCRIPTION:Mercredi  25 Septembre\n18h00\nMonument aux morts\, Place Georges Clémenceau \n\n 
URL:https://www.ville-drap.fr/events/journee-nationale-dhommage-aux-harkis-et-autres-membres-des-formations-suppletives-6/
END:VEVENT
END:VCALENDAR