BEGIN:VCALENDAR
VERSION:2.0
PRODID:-//Mairie de Drap - ECPv5.14.0.4//NONSGML v1.0//EN
CALSCALE:GREGORIAN
METHOD:PUBLISH
X-WR-CALNAME:Mairie de Drap
X-ORIGINAL-URL:https://www.ville-drap.fr
X-WR-CALDESC:évènements pour Mairie de Drap
BEGIN:VTIMEZONE
TZID:Europe/Paris
BEGIN:DAYLIGHT
TZOFFSETFROM:+0100
TZOFFSETTO:+0200
TZNAME:CEST
DTSTART:20170326T010000
END:DAYLIGHT
BEGIN:STANDARD
TZOFFSETFROM:+0200
TZOFFSETTO:+0100
TZNAME:CET
DTSTART:20171029T010000
END:STANDARD
END:VTIMEZONE
BEGIN:VEVENT
DTSTART;TZID=Europe/Paris:20171205T180000
DTEND;TZID=Europe/Paris:20171205T190000
DTSTAMP:20260421T035841
CREATED:20171124T152323Z
LAST-MODIFIED:20171201T162945Z
UID:5262-1512496800-1512500400@www.ville-drap.fr
SUMMARY:Journée nationale d’hommage aux morts pour la France  pendant la guerre d’Algérie et les combats du Maroc et de La Tunisie
DESCRIPTION:Mardi 5 décembre\n18 h 00\n Monument aux morts \nPlus d’infos…
URL:https://www.ville-drap.fr/events/journee-nationale-dhommage-aux-morts-france-pendant-guerre-dalgerie-combats-maroc-de-tunisie-2/
END:VEVENT
END:VCALENDAR