BEGIN:VCALENDAR
VERSION:2.0
PRODID:-//Mairie de Drap - ECPv5.14.0.4//NONSGML v1.0//EN
CALSCALE:GREGORIAN
METHOD:PUBLISH
X-WR-CALNAME:Mairie de Drap
X-ORIGINAL-URL:https://www.ville-drap.fr
X-WR-CALDESC:évènements pour Mairie de Drap
BEGIN:VTIMEZONE
TZID:Europe/Paris
BEGIN:DAYLIGHT
TZOFFSETFROM:+0100
TZOFFSETTO:+0200
TZNAME:CEST
DTSTART:20180325T010000
END:DAYLIGHT
BEGIN:STANDARD
TZOFFSETFROM:+0200
TZOFFSETTO:+0100
TZNAME:CET
DTSTART:20181028T010000
END:STANDARD
END:VTIMEZONE
BEGIN:VEVENT
DTSTART;TZID=Europe/Paris:20180319T183000
DTEND;TZID=Europe/Paris:20180319T193000
DTSTAMP:20260423T030327
CREATED:20180213T171035Z
LAST-MODIFIED:20180213T171544Z
UID:5747-1521484200-1521487800@www.ville-drap.fr
SUMMARY:Journée nationale du souvenir et de recueillement à la mémoire des victimes civiles et militaires de guerre d’Algérie et des combats en Tunisie et au Maroc
DESCRIPTION:Lundi 19 mars \n18 h 30\nMonument aux morts
URL:https://www.ville-drap.fr/events/journee-nationale-souvenir-de-recueillement-a-memoire-victimes-civiles-militaires-de-guerre-dalgerie-combats-tunisie-maroc/
END:VEVENT
END:VCALENDAR