BEGIN:VCALENDAR
VERSION:2.0
PRODID:-//Mairie de Drap - ECPv5.14.0.4//NONSGML v1.0//EN
CALSCALE:GREGORIAN
METHOD:PUBLISH
X-WR-CALNAME:Mairie de Drap
X-ORIGINAL-URL:https://www.ville-drap.fr
X-WR-CALDESC:évènements pour Mairie de Drap
BEGIN:VTIMEZONE
TZID:UTC
BEGIN:STANDARD
TZOFFSETFROM:+0000
TZOFFSETTO:+0000
TZNAME:UTC
DTSTART:20250101T000000
END:STANDARD
END:VTIMEZONE
BEGIN:VEVENT
DTSTART;TZID=UTC:20250301T090000
DTEND;TZID=UTC:20250301T130000
DTSTAMP:20260425T155848
CREATED:20250214T163746Z
LAST-MODIFIED:20250224T140537Z
UID:16761-1740819600-1740834000@www.ville-drap.fr
SUMMARY:Journée Portes Ouverte au Lycée Goscinny de Drap
DESCRIPTION:Samedi 1er mars\n9 h 00 – 13 h 00\nLycée Goscinny\nRoute des Croves 06340 Drap
URL:https://www.ville-drap.fr/events/journee-portes-ouverte-au-lycee-goscinny-de-drap/
END:VEVENT
END:VCALENDAR