BEGIN:VCALENDAR
VERSION:2.0
PRODID:-//Mairie de Drap - ECPv5.14.0.4//NONSGML v1.0//EN
CALSCALE:GREGORIAN
METHOD:PUBLISH
X-WR-CALNAME:Mairie de Drap
X-ORIGINAL-URL:https://www.ville-drap.fr
X-WR-CALDESC:évènements pour Mairie de Drap
BEGIN:VTIMEZONE
TZID:Europe/Paris
BEGIN:DAYLIGHT
TZOFFSETFROM:+0100
TZOFFSETTO:+0200
TZNAME:CEST
DTSTART:20180325T010000
END:DAYLIGHT
BEGIN:STANDARD
TZOFFSETFROM:+0200
TZOFFSETTO:+0100
TZNAME:CET
DTSTART:20181028T010000
END:STANDARD
END:VTIMEZONE
BEGIN:VEVENT
DTSTART;TZID=Europe/Paris:20180331T200000
DTEND;TZID=Europe/Paris:20180331T200000
DTSTAMP:20260423T133142
CREATED:20180313T173955Z
LAST-MODIFIED:20180313T173955Z
UID:5915-1522526400-1522526400@www.ville-drap.fr
SUMMARY:Karaoké du Comité des fêtes
DESCRIPTION:Samedi 31 mars\n20 h\n Espace Jean Ferrat\n Inscriptions du 12 au 27 mars à l’Espace Jean Ferrat de 10 h à 12 h sauf samedi.\n Paiement par chèque\n Renseignements : 06 19 67 97 58 et 06 85 57 55 02
URL:https://www.ville-drap.fr/events/karaoke-comite-fetes-3/
END:VEVENT
END:VCALENDAR