BEGIN:VCALENDAR
VERSION:2.0
PRODID:-//Mairie de Drap - ECPv5.14.0.4//NONSGML v1.0//EN
CALSCALE:GREGORIAN
METHOD:PUBLISH
X-WR-CALNAME:Mairie de Drap
X-ORIGINAL-URL:https://www.ville-drap.fr
X-WR-CALDESC:évènements pour Mairie de Drap
BEGIN:VTIMEZONE
TZID:Europe/Paris
BEGIN:DAYLIGHT
TZOFFSETFROM:+0100
TZOFFSETTO:+0200
TZNAME:CEST
DTSTART:20180325T010000
END:DAYLIGHT
BEGIN:STANDARD
TZOFFSETFROM:+0200
TZOFFSETTO:+0100
TZNAME:CET
DTSTART:20181028T010000
END:STANDARD
END:VTIMEZONE
BEGIN:VEVENT
DTSTART;TZID=Europe/Paris:20180513T100000
DTEND;TZID=Europe/Paris:20180513T170000
DTSTAMP:20260424T150235
CREATED:20180420T144155Z
LAST-MODIFIED:20180420T153121Z
UID:6163-1526205600-1526230800@www.ville-drap.fr
SUMMARY:Kermesse paroissiale
DESCRIPTION:Dimanche 13 mai\nA partir de 10 h\n Eglise de La Trinité \n  \nPlus d’infos…\nLa paroisse Bienheureux Amédée iX de Savoie organise sa kermesse annuelle  avec de nombreuses animations : messe\, stands\, jeux\, buvette\, et tombola !
URL:https://www.ville-drap.fr/events/kermesse-paroissiale/
END:VEVENT
END:VCALENDAR