BEGIN:VCALENDAR
VERSION:2.0
PRODID:-//Mairie de Drap - ECPv5.14.0.4//NONSGML v1.0//EN
CALSCALE:GREGORIAN
METHOD:PUBLISH
X-WR-CALNAME:Mairie de Drap
X-ORIGINAL-URL:https://www.ville-drap.fr
X-WR-CALDESC:évènements pour Mairie de Drap
BEGIN:VTIMEZONE
TZID:UTC
BEGIN:STANDARD
TZOFFSETFROM:+0000
TZOFFSETTO:+0000
TZNAME:UTC
DTSTART:20250101T000000
END:STANDARD
END:VTIMEZONE
BEGIN:VEVENT
DTSTART;TZID=UTC:20250214T080000
DTEND;TZID=UTC:20250214T170000
DTSTAMP:20260425T053528
CREATED:20250214T163604Z
LAST-MODIFIED:20250214T163604Z
UID:16759-1739520000-1739552400@www.ville-drap.fr
SUMMARY:La Grande dictée de Drap
DESCRIPTION:Mardi 11 mars\n17 h 30 enfants\n19 h 00 adultes\nEspace Jean Ferrat\nInscription gratuite en mairie principale 1 Place Clemenceau\nRéservée aux Drapois et aux enfants scolarisés à Drap
URL:https://www.ville-drap.fr/events/la-grande-dictee-de-drap/
END:VEVENT
END:VCALENDAR