BEGIN:VCALENDAR
VERSION:2.0
PRODID:-//Mairie de Drap - ECPv5.14.0.4//NONSGML v1.0//EN
CALSCALE:GREGORIAN
METHOD:PUBLISH
X-WR-CALNAME:Mairie de Drap
X-ORIGINAL-URL:https://www.ville-drap.fr
X-WR-CALDESC:évènements pour Mairie de Drap
BEGIN:VTIMEZONE
TZID:UTC
BEGIN:STANDARD
TZOFFSETFROM:+0000
TZOFFSETTO:+0000
TZNAME:UTC
DTSTART:20240101T000000
END:STANDARD
END:VTIMEZONE
BEGIN:VEVENT
DTSTART;TZID=UTC:20240607T190000
DTEND;TZID=UTC:20240607T233000
DTSTAMP:20260420T185503
CREATED:20240523T075352Z
LAST-MODIFIED:20240523T075352Z
UID:15984-1717786800-1717803000@www.ville-drap.fr
SUMMARY:« Les vendredis terrasse » :  Soirée déguisée
DESCRIPTION:Vendredi 7 juin\nDès 19 h00 – Parvis de l’Espace Jean Ferrat \nSur réservations\nInfos au 07 60 96 13 63
URL:https://www.ville-drap.fr/events/les-vendredis-terrasse-soiree-deguisee/
END:VEVENT
END:VCALENDAR