BEGIN:VCALENDAR
VERSION:2.0
PRODID:-//Mairie de Drap - ECPv5.14.0.4//NONSGML v1.0//EN
CALSCALE:GREGORIAN
METHOD:PUBLISH
X-WR-CALNAME:Mairie de Drap
X-ORIGINAL-URL:https://www.ville-drap.fr
X-WR-CALDESC:évènements pour Mairie de Drap
BEGIN:VTIMEZONE
TZID:Europe/Paris
BEGIN:DAYLIGHT
TZOFFSETFROM:+0100
TZOFFSETTO:+0200
TZNAME:CEST
DTSTART:20180325T010000
END:DAYLIGHT
BEGIN:STANDARD
TZOFFSETFROM:+0200
TZOFFSETTO:+0100
TZNAME:CET
DTSTART:20181028T010000
END:STANDARD
END:VTIMEZONE
BEGIN:VEVENT
DTSTART;TZID=Europe/Paris:20180202T193000
DTEND;TZID=Europe/Paris:20180202T193000
DTSTAMP:20260422T043255
CREATED:20171218T162625Z
LAST-MODIFIED:20180108T172651Z
UID:5417-1517599800-1517599800@www.ville-drap.fr
SUMMARY:Loto du Comité de jumelage
DESCRIPTION:Vendredi 2 février\nOuverture des portes à 18 h (début du jeu : 19 h 30)\n Renseignements : 06 85 66 81 85
URL:https://www.ville-drap.fr/events/loto-comite-de-jumelage-2/
END:VEVENT
END:VCALENDAR