BEGIN:VCALENDAR
VERSION:2.0
PRODID:-//Mairie de Drap - ECPv5.14.0.4//NONSGML v1.0//EN
CALSCALE:GREGORIAN
METHOD:PUBLISH
X-WR-CALNAME:Mairie de Drap
X-ORIGINAL-URL:https://www.ville-drap.fr
X-WR-CALDESC:évènements pour Mairie de Drap
BEGIN:VTIMEZONE
TZID:UTC
BEGIN:STANDARD
TZOFFSETFROM:+0000
TZOFFSETTO:+0000
TZNAME:UTC
DTSTART:20240101T000000
END:STANDARD
END:VTIMEZONE
BEGIN:VEVENT
DTSTART;VALUE=DATE:20241130
DTEND;VALUE=DATE:20241202
DTSTAMP:20260424T093830
CREATED:20241118T132735Z
LAST-MODIFIED:20241118T132735Z
UID:16590-1732924800-1733097599@www.ville-drap.fr
SUMMARY:Marché de Noël
DESCRIPTION:Samedi 30 novembre et dimanche 1er décembre\n10 h- 18\nEsplanade Jean Ferrat et Esplanade Jean Ferrat\nEntrée libre \n  \nPlus d’infos…\nLe marché de Noël ravira petits et grands : les nombreux exposants présents vous proposeront idées cadeaux\, gourmandises\, des ateliers créatifs. Des associations feront appel à votre bon coeur avec des actions solidaires. Quant à la patinoire\, elle ouvrira dès 10 heures. Le Père-Noël sera l’invité de la Municipalité chaque jour à 14 h 00. Des spectacles de danse auront lieu tout au long du week-end !\nEntrez dans la féerie de Noël !
URL:https://www.ville-drap.fr/events/marche-de-noel-12/
END:VEVENT
END:VCALENDAR