BEGIN:VCALENDAR
VERSION:2.0
PRODID:-//Mairie de Drap - ECPv5.14.0.4//NONSGML v1.0//EN
CALSCALE:GREGORIAN
METHOD:PUBLISH
X-WR-CALNAME:Mairie de Drap
X-ORIGINAL-URL:https://www.ville-drap.fr
X-WR-CALDESC:évènements pour Mairie de Drap
BEGIN:VTIMEZONE
TZID:Europe/Paris
BEGIN:DAYLIGHT
TZOFFSETFROM:+0100
TZOFFSETTO:+0200
TZNAME:CEST
DTSTART:20170326T010000
END:DAYLIGHT
BEGIN:STANDARD
TZOFFSETFROM:+0200
TZOFFSETTO:+0100
TZNAME:CET
DTSTART:20171029T010000
END:STANDARD
END:VTIMEZONE
BEGIN:VEVENT
DTSTART;TZID=Europe/Paris:20171101T093000
DTEND;TZID=Europe/Paris:20171101T170000
DTSTAMP:20260420T034539
CREATED:20171030T172141Z
LAST-MODIFIED:20171030T172204Z
UID:5125-1509528600-1509555600@www.ville-drap.fr
SUMMARY:Messe de la Toussaint
DESCRIPTION:Mercredi 1er novembre\n9 h 30 \nEglise Saint-Jean-Baptiste
URL:https://www.ville-drap.fr/events/messe-de-toussaint/
END:VEVENT
END:VCALENDAR