BEGIN:VCALENDAR
VERSION:2.0
PRODID:-//Mairie de Drap - ECPv5.14.0.4//NONSGML v1.0//EN
CALSCALE:GREGORIAN
METHOD:PUBLISH
X-WR-CALNAME:Mairie de Drap
X-ORIGINAL-URL:https://www.ville-drap.fr
X-WR-CALDESC:évènements pour Mairie de Drap
BEGIN:VTIMEZONE
TZID:Europe/Paris
BEGIN:DAYLIGHT
TZOFFSETFROM:+0100
TZOFFSETTO:+0200
TZNAME:CEST
DTSTART:20180325T010000
END:DAYLIGHT
BEGIN:STANDARD
TZOFFSETFROM:+0200
TZOFFSETTO:+0100
TZNAME:CET
DTSTART:20181028T010000
END:STANDARD
END:VTIMEZONE
BEGIN:VEVENT
DTSTART;TZID=Europe/Paris:20180622T210000
DTEND;TZID=Europe/Paris:20180622T210000
DTSTAMP:20260425T050418
CREATED:20180122T173032Z
LAST-MODIFIED:20180122T173032Z
UID:5613-1529701200-1529701200@www.ville-drap.fr
SUMMARY:Noëlle Perna est "Super Mado"
DESCRIPTION:Vendredi 22 juin\nEspace Jean Ferrat\n 21 h 00\n Tarif unique : 28 €\n Billetterie en ligne en cliquant ici\n Infos et réservations : 09 61 22 06 87 \nPlus d’infos…\nAprès Mado la Niçoise en 1999\, Mado fait son show en 2007 et Mado prend racine en 2012\, c’est son quatrième spectacle.\n« Le reproducteur » de Mado impose à sa star du chauve-binz de faire un spectacle entièrement visuel… Difficile à réaliser pour une Mado qui n’a pas sa langue dans la poche. Avec sa généreuse faconde méridionale et son bon sens légendaire\, elle ne pourra pas s’empêcher de s’exprimer sur tous les sujets qui lui paraissent incontournables aujourd’hui. Contrairement à Superman\, Super Mado ne possède aucun pouvoir\, sinon celui de déclencher des « pétées » de rire et surtout… de dire ce qu’elle a envie de dire ! \n 
URL:https://www.ville-drap.fr/events/noelle-perna-super-mado/
END:VEVENT
END:VCALENDAR