BEGIN:VCALENDAR
VERSION:2.0
PRODID:-//Mairie de Drap - ECPv5.14.0.4//NONSGML v1.0//EN
CALSCALE:GREGORIAN
METHOD:PUBLISH
X-WR-CALNAME:Mairie de Drap
X-ORIGINAL-URL:https://www.ville-drap.fr
X-WR-CALDESC:évènements pour Mairie de Drap
BEGIN:VTIMEZONE
TZID:UTC
BEGIN:STANDARD
TZOFFSETFROM:+0000
TZOFFSETTO:+0000
TZNAME:UTC
DTSTART:20240101T000000
END:STANDARD
END:VTIMEZONE
BEGIN:VEVENT
DTSTART;TZID=UTC:20240611T100000
DTEND;TZID=UTC:20240611T160000
DTSTAMP:20260421T022125
CREATED:20240524T143752Z
LAST-MODIFIED:20240524T143752Z
UID:15989-1718100000-1718121600@www.ville-drap.fr
SUMMARY:Olympiades seniors de l'ADMR 06 :  épreuve de fléchettes -
DESCRIPTION:Mardi 11 juin\n10h00-16 h 00\nEspace Jean Ferrat\n Infos : 04 97 11 87 11
URL:https://www.ville-drap.fr/events/olympiades-seniors-de-ladmr-06-epreuve-de-flechettes/
END:VEVENT
END:VCALENDAR