BEGIN:VCALENDAR
VERSION:2.0
PRODID:-//Mairie de Drap - ECPv5.14.0.4//NONSGML v1.0//EN
CALSCALE:GREGORIAN
METHOD:PUBLISH
X-WR-CALNAME:Mairie de Drap
X-ORIGINAL-URL:https://www.ville-drap.fr
X-WR-CALDESC:évènements pour Mairie de Drap
BEGIN:VTIMEZONE
TZID:UTC
BEGIN:STANDARD
TZOFFSETFROM:+0000
TZOFFSETTO:+0000
TZNAME:UTC
DTSTART:20240101T000000
END:STANDARD
END:VTIMEZONE
BEGIN:VEVENT
DTSTART;TZID=UTC:20240517T090000
DTEND;TZID=UTC:20240517T110000
DTSTAMP:20260419T220637
CREATED:20240426T081350Z
LAST-MODIFIED:20240514T122145Z
UID:15859-1715936400-1715943600@www.ville-drap.fr
SUMMARY:Permanence de Monsieur le Maire
DESCRIPTION:Vendredi 17 mai\n9 h à 11 h\nMairie Principale\, 1 Place Clemenceau\nInfos : 04 97 00 06 30 \n\nPlus d’infos…\nRobert Nardelli a décidé de rencontrer les Drapois au plus près de chez eux\, grâce à des permanences en Mairie Annexe et en Mairie principale\, sans rendez-vous.La prochaine permanence aura lieu le vendredi 5 avril\, de 9 à 11 heures à la Mairie annexe de La Condamine.\nVenez lui poser vos questions !
URL:https://www.ville-drap.fr/events/permanence-de-monsieur-le-maire-7/
END:VEVENT
END:VCALENDAR