BEGIN:VCALENDAR
VERSION:2.0
PRODID:-//Mairie de Drap - ECPv5.14.0.4//NONSGML v1.0//EN
CALSCALE:GREGORIAN
METHOD:PUBLISH
X-WR-CALNAME:Mairie de Drap
X-ORIGINAL-URL:https://www.ville-drap.fr
X-WR-CALDESC:évènements pour Mairie de Drap
BEGIN:VTIMEZONE
TZID:UTC
BEGIN:STANDARD
TZOFFSETFROM:+0000
TZOFFSETTO:+0000
TZNAME:UTC
DTSTART:20260101T000000
END:STANDARD
END:VTIMEZONE
BEGIN:VEVENT
DTSTART;TZID=UTC:20260207T203000
DTEND;TZID=UTC:20260207T220000
DTSTAMP:20260422T061140
CREATED:20260122T140747Z
LAST-MODIFIED:20260122T141019Z
UID:17617-1770496200-1770501600@www.ville-drap.fr
SUMMARY:Pièce de théâtre : "Le dîner de cons"
DESCRIPTION:Samedi 7 février\n20 h 30\nEspace Jean Ferrat\nPlaces disponibles :\nen Mairie principale de Drap 1 Place Clemenceau\nen ligne \nPlus d’infos…\nQui n’a pas vu la pièce culte « Le Dîner de cons »\, signée Francis Veber ? \nComme le dit Anthony Joubert : personne ne peut faire mieux que Jacques Villeret dans son domaine. Mais nous pouvons le faire différemment ! Anthony Joubert apporte sa touche personnelle et vous offre un François Pignon un peu plus naïf dans une mise en scène qui surprend le public sans dénaturer ni la pièce\, ni le texte ! \nChaque mercredi\, Pierre Brochant et ses amis organisent un dîner de cons. Le principe est simple : chaque participant amène un « con »\, et celui dont l’invité se distingue le plus est déclaré vainqueur. \nCe soir Pierre est heureux\, il pense avoir trouvé la perle rare : François Pignon\, comptable au ministère des Finances\, passionné de modèles réduits en allumettes. \nMais ce qu’il ignore\, c’est que Pignon\, prêt à tout pour rendre service\, est un fieffé porteur de guigne passé maître dans l’art de déclencher des catastrophes… La rencontre entre deux destins qui n’auraient jamais dû se croiser… \nBande-annonce du spectacle
URL:https://www.ville-drap.fr/events/piece-de-theatre-le-diner-de-cons/
END:VEVENT
END:VCALENDAR