BEGIN:VCALENDAR
VERSION:2.0
PRODID:-//Mairie de Drap - ECPv5.14.0.4//NONSGML v1.0//EN
CALSCALE:GREGORIAN
METHOD:PUBLISH
X-WR-CALNAME:Mairie de Drap
X-ORIGINAL-URL:https://www.ville-drap.fr
X-WR-CALDESC:évènements pour Mairie de Drap
BEGIN:VTIMEZONE
TZID:Europe/Paris
BEGIN:DAYLIGHT
TZOFFSETFROM:+0100
TZOFFSETTO:+0200
TZNAME:CEST
DTSTART:20170326T010000
END:DAYLIGHT
BEGIN:STANDARD
TZOFFSETFROM:+0200
TZOFFSETTO:+0100
TZNAME:CET
DTSTART:20171029T010000
END:STANDARD
END:VTIMEZONE
BEGIN:VEVENT
DTSTART;TZID=Europe/Paris:20171216T110000
DTEND;TZID=Europe/Paris:20171216T170000
DTSTAMP:20260421T095331
CREATED:20171130T170442Z
LAST-MODIFIED:20171208T182244Z
UID:5284-1513422000-1513443600@www.ville-drap.fr
SUMMARY:Présentation du livre "Passé et Renouveau de Drap" suivie d'une dégustation de produits locaux
DESCRIPTION:Samedi 16 décembre\n11 h 00  au Moulin \n  \nPlus d’infos…\nLa présentation du livre sera suivie d’une dégustation de produits locaux offerte par la Municipalité
URL:https://www.ville-drap.fr/events/presentation-livre-passe-renouveau-de-drap-suivie-dune-degustation-de-produits-locaux/
END:VEVENT
END:VCALENDAR