BEGIN:VCALENDAR
VERSION:2.0
PRODID:-//Mairie de Drap - ECPv5.14.0.4//NONSGML v1.0//EN
CALSCALE:GREGORIAN
METHOD:PUBLISH
X-WR-CALNAME:Mairie de Drap
X-ORIGINAL-URL:https://www.ville-drap.fr
X-WR-CALDESC:évènements pour Mairie de Drap
BEGIN:VTIMEZONE
TZID:UTC
BEGIN:STANDARD
TZOFFSETFROM:+0000
TZOFFSETTO:+0000
TZNAME:UTC
DTSTART:20250101T000000
END:STANDARD
END:VTIMEZONE
BEGIN:VEVENT
DTSTART;TZID=UTC:20250527T140000
DTEND;TZID=UTC:20250527T140000
DTSTAMP:20260422T041027
CREATED:20250509T131927Z
LAST-MODIFIED:20250509T131927Z
UID:16978-1748354400-1748354400@www.ville-drap.fr
SUMMARY:Programme "Bienvenue à la retraite"
DESCRIPTION:Mardi 27 mai 2025\nde 14 h 00 à 17 h 00\nSalle Victoria\nGratuit\nInscription : 04 97 00 06 30 ou ccas@ville-drap.fr \nPlus d’infos…\nLa Commune de Drap et la CARSAT  vous font profitez d’un atelier collectif de 5 séances pour vivre une retraite sereine et active ! \nSéance 1 : Mardi 13/05 de 14h à 17hSéance 2 : Mardi 20/05 de 14h à 17hSéance 3 : Mardi 27/05 de 14h à 17hSéance 4 : Mardi 03/06 de 14h à 17hSéance 5 : Mardi 01/07 de 14h à 17h
URL:https://www.ville-drap.fr/events/programme-bienvenue-a-la-retraite-3/
END:VEVENT
END:VCALENDAR