BEGIN:VCALENDAR
VERSION:2.0
PRODID:-//Mairie de Drap - ECPv5.14.0.4//NONSGML v1.0//EN
CALSCALE:GREGORIAN
METHOD:PUBLISH
X-WR-CALNAME:Mairie de Drap
X-ORIGINAL-URL:https://www.ville-drap.fr
X-WR-CALDESC:évènements pour Mairie de Drap
BEGIN:VTIMEZONE
TZID:UTC
BEGIN:STANDARD
TZOFFSETFROM:+0000
TZOFFSETTO:+0000
TZNAME:UTC
DTSTART:20240101T000000
END:STANDARD
END:VTIMEZONE
BEGIN:VEVENT
DTSTART;TZID=UTC:20241114T140000
DTEND;TZID=UTC:20241114T170000
DTSTAMP:20260424T003439
CREATED:20241108T151232Z
LAST-MODIFIED:20241108T151328Z
UID:16548-1731592800-1731603600@www.ville-drap.fr
SUMMARY:Projection du film "La Corse et ses trésors - Rétrospective du voyage du CCAS 2024"
DESCRIPTION:Jeudi 14 novembre 2024\n14 h 00\nEspace Jean Ferrat\nEntrée libre\nOuvert à tous \n  \nPlus d’infos…\nLa manifestation sera suivie d’un goûter. Venez nombreux découvrir les activités proposées par le CCAS !
URL:https://www.ville-drap.fr/events/projection-du-film-la-corse-et-ses-tresors-retrospective-du-voyage-du-ccas-2024/
END:VEVENT
END:VCALENDAR