BEGIN:VCALENDAR
VERSION:2.0
PRODID:-//Mairie de Drap - ECPv5.14.0.4//NONSGML v1.0//EN
CALSCALE:GREGORIAN
METHOD:PUBLISH
X-WR-CALNAME:Mairie de Drap
X-ORIGINAL-URL:https://www.ville-drap.fr
X-WR-CALDESC:évènements pour Mairie de Drap
BEGIN:VTIMEZONE
TZID:UTC
BEGIN:STANDARD
TZOFFSETFROM:+0000
TZOFFSETTO:+0000
TZNAME:UTC
DTSTART:20250101T000000
END:STANDARD
END:VTIMEZONE
BEGIN:VEVENT
DTSTART;TZID=UTC:20250516T173000
DTEND;TZID=UTC:20250516T190000
DTSTAMP:20260422T130137
CREATED:20250509T132458Z
LAST-MODIFIED:20250514T090536Z
UID:16987-1747416600-1747422000@www.ville-drap.fr
SUMMARY:Rencontre avec l'auteur Claude Rizzo - annulée
DESCRIPTION:Vendredi 16 mai\n17 h 30\nCentre Culturel des Gras (1 chemin des Gras\, 06340 DRAP)\nEntrée libre\nInfos au 04 93 81 71 67 \n  \nPlus d’infos…\n  \nClaude Rizzo vous donne rendez-vous pour une soirée dédicace et lecture. Niçois d’adoption\, Claude Rizzo est né à Tunis de parents maltais.Il est l’auteur de plusieurs romans\, dont notamment « Le vent s’en souvient encore »(2016\, Ed. Campanile)\, « Le long du Paillon »(2022\, Ed. Campanile)\, « Le sentier des aubépines »(2008\, Ed. Souny).\nDéjà enfant\, il aimait raconter des histoires\, à tel point qu’il s’était instauré conteur de sa bande de copains. Aujourd’hui\, il continue à écrire des histoires\, de celles qui semblaient émouvoir ses copains à l’âge des culottes courtes et qui régalent les lecteurs actuels. Dans chaque roman\, l’auteur plaide sans relâche pour la fraternité\, la générosité\, l’amitié entre les hommes ou encore le combat contre l’ignorance et l’intolérance. Il vit aujourd’hui à Nice.
URL:https://www.ville-drap.fr/events/rencontre-avec-lauteur-claude-rizzo/
END:VEVENT
END:VCALENDAR