BEGIN:VCALENDAR
VERSION:2.0
PRODID:-//Mairie de Drap - ECPv5.14.0.4//NONSGML v1.0//EN
CALSCALE:GREGORIAN
METHOD:PUBLISH
X-WR-CALNAME:Mairie de Drap
X-ORIGINAL-URL:https://www.ville-drap.fr
X-WR-CALDESC:évènements pour Mairie de Drap
BEGIN:VTIMEZONE
TZID:Europe/Paris
BEGIN:DAYLIGHT
TZOFFSETFROM:+0100
TZOFFSETTO:+0200
TZNAME:CEST
DTSTART:20180325T010000
END:DAYLIGHT
BEGIN:STANDARD
TZOFFSETFROM:+0200
TZOFFSETTO:+0100
TZNAME:CET
DTSTART:20181028T010000
END:STANDARD
END:VTIMEZONE
BEGIN:VEVENT
DTSTART;TZID=Europe/Paris:20180710T190000
DTEND;TZID=Europe/Paris:20180710T230000
DTSTAMP:20260425T173420
CREATED:20180709T122550Z
LAST-MODIFIED:20180709T122550Z
UID:6519-1531249200-1531263600@www.ville-drap.fr
SUMMARY:Retransmission Demi-finale de coupe du Monde de football France-Belgique
DESCRIPTION:Mardi 10 juillet\nDès 19 h\nEspace Jean Ferrat\nEntrée libre\nBuvette et petite restauration sur place
URL:https://www.ville-drap.fr/events/retransmission-demi-finale-de-coupe-monde-de-football-france-belgique/
END:VEVENT
END:VCALENDAR