BEGIN:VCALENDAR
VERSION:2.0
PRODID:-//Mairie de Drap - ECPv5.14.0.4//NONSGML v1.0//EN
CALSCALE:GREGORIAN
METHOD:PUBLISH
X-WR-CALNAME:Mairie de Drap
X-ORIGINAL-URL:https://www.ville-drap.fr
X-WR-CALDESC:évènements pour Mairie de Drap
BEGIN:VTIMEZONE
TZID:Europe/Paris
BEGIN:DAYLIGHT
TZOFFSETFROM:+0100
TZOFFSETTO:+0200
TZNAME:CEST
DTSTART:20180325T010000
END:DAYLIGHT
BEGIN:STANDARD
TZOFFSETFROM:+0200
TZOFFSETTO:+0100
TZNAME:CET
DTSTART:20181028T010000
END:STANDARD
END:VTIMEZONE
BEGIN:VEVENT
DTSTART;TZID=Europe/Paris:20180410T190000
DTEND;TZID=Europe/Paris:20180410T210000
DTSTAMP:20260423T201143
CREATED:20180404T153641Z
LAST-MODIFIED:20180404T153641Z
UID:6047-1523386800-1523394000@www.ville-drap.fr
SUMMARY:Réunion du Conseil Municipal
DESCRIPTION:Mardi 10 avril\n19 h\n Salle du Conseil Municipal (Mairie de Drap) \n\nPlus d’infos…\nDécouvrez ci-dessous l’ordre du jour de la réunion :
URL:https://www.ville-drap.fr/events/reunion-conseil-municipal-9/
END:VEVENT
END:VCALENDAR