BEGIN:VCALENDAR
VERSION:2.0
PRODID:-//Mairie de Drap - ECPv5.14.0.4//NONSGML v1.0//EN
CALSCALE:GREGORIAN
METHOD:PUBLISH
X-WR-CALNAME:Mairie de Drap
X-ORIGINAL-URL:https://www.ville-drap.fr
X-WR-CALDESC:évènements pour Mairie de Drap
BEGIN:VTIMEZONE
TZID:UTC
BEGIN:STANDARD
TZOFFSETFROM:+0000
TZOFFSETTO:+0000
TZNAME:UTC
DTSTART:20250101T000000
END:STANDARD
END:VTIMEZONE
BEGIN:VEVENT
DTSTART;TZID=UTC:20251231T190000
DTEND;TZID=UTC:20251231T190000
DTSTAMP:20260421T180556
CREATED:20251222T112636Z
LAST-MODIFIED:20251222T112658Z
UID:17523-1767207600-1767207600@www.ville-drap.fr
SUMMARY:Réveillon de la Saint Sylvestre
DESCRIPTION:Mercredi 31 décembre\nEspace Jean Ferrat\nsur réservation au 06 19 67 97 58 \nPlus d’infos…\nSoirée proposé par la Commune de Drap en partenariat avec le Comité des fêtes drapois
URL:https://www.ville-drap.fr/events/reveillon-de-la-saint-sylvestre-2/
END:VEVENT
END:VCALENDAR