BEGIN:VCALENDAR
VERSION:2.0
PRODID:-//Mairie de Drap - ECPv5.14.0.4//NONSGML v1.0//EN
CALSCALE:GREGORIAN
METHOD:PUBLISH
X-WR-CALNAME:Mairie de Drap
X-ORIGINAL-URL:https://www.ville-drap.fr
X-WR-CALDESC:évènements pour Mairie de Drap
BEGIN:VTIMEZONE
TZID:Europe/Paris
BEGIN:DAYLIGHT
TZOFFSETFROM:+0100
TZOFFSETTO:+0200
TZNAME:CEST
DTSTART:20170326T010000
END:DAYLIGHT
BEGIN:STANDARD
TZOFFSETFROM:+0200
TZOFFSETTO:+0100
TZNAME:CET
DTSTART:20171029T010000
END:STANDARD
END:VTIMEZONE
BEGIN:VEVENT
DTSTART;TZID=Europe/Paris:20171231T080000
DTEND;TZID=Europe/Paris:20171231T170000
DTSTAMP:20260421T174919
CREATED:20171121T145416Z
LAST-MODIFIED:20171124T154112Z
UID:5231-1514707200-1514739600@www.ville-drap.fr
SUMMARY:Réveillon de la Saint -Sylvestre du Comité des fêtes
DESCRIPTION:Dimanche 31 décembre\nEspace Jean-Ferrat\n 20 h 30\n 80 € par personne\n 35 € par enfants\n Renseignements : 06 19 67 97 58 ou 06 85 57 55 02 \nPlus d’infos…\nLes inscriptions s’effectuent du 6 au 26 décembre de 10 h à 12 h sauf le samedi à l’Espace Jean-Ferrat.
URL:https://www.ville-drap.fr/events/reveillon-de-saint-sylvestre-comite-fetes/
END:VEVENT
END:VCALENDAR