BEGIN:VCALENDAR
VERSION:2.0
PRODID:-//Mairie de Drap - ECPv5.14.0.4//NONSGML v1.0//EN
CALSCALE:GREGORIAN
METHOD:PUBLISH
X-WR-CALNAME:Mairie de Drap
X-ORIGINAL-URL:https://www.ville-drap.fr
X-WR-CALDESC:évènements pour Mairie de Drap
BEGIN:VTIMEZONE
TZID:Europe/Paris
BEGIN:DAYLIGHT
TZOFFSETFROM:+0100
TZOFFSETTO:+0200
TZNAME:CEST
DTSTART:20170326T010000
END:DAYLIGHT
BEGIN:STANDARD
TZOFFSETFROM:+0200
TZOFFSETTO:+0100
TZNAME:CET
DTSTART:20171029T010000
END:STANDARD
END:VTIMEZONE
BEGIN:VEVENT
DTSTART;TZID=Europe/Paris:20171014T093000
DTEND;TZID=Europe/Paris:20171015T180000
DTSTAMP:20260419T185105
CREATED:20170802T152723Z
LAST-MODIFIED:20170802T153551Z
UID:4620-1507973400-1508090400@www.ville-drap.fr
SUMMARY:Salon de la voyance
DESCRIPTION:Samedi 14 octobre\nDimanche 15 octobre\n9 h 30 – 18 h 00 non-stop\n Entrée libre\n Parking gratuit\n Renseignements : 04 93 01 45 25
URL:https://www.ville-drap.fr/events/salon-de-voyance/
END:VEVENT
END:VCALENDAR