BEGIN:VCALENDAR
VERSION:2.0
PRODID:-//Mairie de Drap - ECPv5.14.0.4//NONSGML v1.0//EN
CALSCALE:GREGORIAN
METHOD:PUBLISH
X-WR-CALNAME:Mairie de Drap
X-ORIGINAL-URL:https://www.ville-drap.fr
X-WR-CALDESC:évènements pour Mairie de Drap
BEGIN:VTIMEZONE
TZID:Europe/Paris
BEGIN:DAYLIGHT
TZOFFSETFROM:+0100
TZOFFSETTO:+0200
TZNAME:CEST
DTSTART:20170326T010000
END:DAYLIGHT
BEGIN:STANDARD
TZOFFSETFROM:+0200
TZOFFSETTO:+0100
TZNAME:CET
DTSTART:20171029T010000
END:STANDARD
END:VTIMEZONE
BEGIN:VEVENT
DTSTART;TZID=Europe/Paris:20171113T100000
DTEND;TZID=Europe/Paris:20171113T170000
DTSTAMP:20260420T142042
CREATED:20170718T162822Z
LAST-MODIFIED:20170802T152852Z
UID:4504-1510567200-1510592400@www.ville-drap.fr
SUMMARY:Salon du livre : remise des travaux du concours de BD
DESCRIPTION:Lundi 13 novembre\nRenseignements : 04 93 01 45 55 \nPlus d’infos…\nL’édition 2017 du Salon du livre de Drap mettra à l’honneur la BD. Dans cette perspective\, la Ville de Drap lance un concours destiné aux enfants à partir de 5 ans et aux adultes. A vos crayons! Cliquez ici pour lire le règlement.
URL:https://www.ville-drap.fr/events/salon-livre-remise-travaux-concours-de-bd/
END:VEVENT
END:VCALENDAR