BEGIN:VCALENDAR
VERSION:2.0
PRODID:-//Mairie de Drap - ECPv5.14.0.4//NONSGML v1.0//EN
CALSCALE:GREGORIAN
METHOD:PUBLISH
X-WR-CALNAME:Mairie de Drap
X-ORIGINAL-URL:https://www.ville-drap.fr
X-WR-CALDESC:évènements pour Mairie de Drap
BEGIN:VTIMEZONE
TZID:Europe/Paris
BEGIN:DAYLIGHT
TZOFFSETFROM:+0100
TZOFFSETTO:+0200
TZNAME:CEST
DTSTART:20170326T010000
END:DAYLIGHT
BEGIN:STANDARD
TZOFFSETFROM:+0200
TZOFFSETTO:+0100
TZNAME:CET
DTSTART:20171029T010000
END:STANDARD
END:VTIMEZONE
BEGIN:VEVENT
DTSTART;TZID=Europe/Paris:20171110T203000
DTEND;TZID=Europe/Paris:20171110T230000
DTSTAMP:20260420T093937
CREATED:20171019T161049Z
LAST-MODIFIED:20171020T160940Z
UID:5034-1510345800-1510354800@www.ville-drap.fr
SUMMARY:Skakin'Mamas et le Breaking big band
DESCRIPTION:Vendredi 10 Novembre\nEspace Jean-Ferrat\n 20 h 30\n Tarif unique : 15 € -Placement libre\n Ouverture des portes à 19 h 30\n Buvette sur place\n Infos et réservations 09 61 22 06 87\nBilletterie en ligne cliquez ici \n  \nPlus d’infos…\nAvec des chœurs pop et luxuriants\, le groupe s’inscrit dans la lignée des grils group des sixties. Féminines jusqu’au bout de leurs escarpins\, les quatre mamas aux voix de velours revisiteront les grands standards de la pop et de la soul des années 1960 1970\, tout en s’amusant des poncifs imposés aux femmes.\nUn spectacle jubilatoire\, plein de fantaisie et de groove ! \n 
URL:https://www.ville-drap.fr/events/skakinmamas-beaking-big-band/
END:VEVENT
END:VCALENDAR