BEGIN:VCALENDAR
VERSION:2.0
PRODID:-//Mairie de Drap - ECPv5.14.0.4//NONSGML v1.0//EN
CALSCALE:GREGORIAN
METHOD:PUBLISH
X-WR-CALNAME:Mairie de Drap
X-ORIGINAL-URL:https://www.ville-drap.fr
X-WR-CALDESC:évènements pour Mairie de Drap
BEGIN:VTIMEZONE
TZID:UTC
BEGIN:STANDARD
TZOFFSETFROM:+0000
TZOFFSETTO:+0000
TZNAME:UTC
DTSTART:20240101T000000
END:STANDARD
END:VTIMEZONE
BEGIN:VEVENT
DTSTART;TZID=UTC:20241102T190000
DTEND;TZID=UTC:20241102T233000
DTSTAMP:20260423T215254
CREATED:20241023T091539Z
LAST-MODIFIED:20241023T091539Z
UID:16516-1730574000-1730590200@www.ville-drap.fr
SUMMARY:Soirée Halloween
DESCRIPTION:Samedi 2 novembre\n19 h 00 – Espace Jean Ferrat\nEntrée 2 € à partir de 13 ans – Buvette et restauration sur place\nRéservations au 07 60 96 13 63 \n  \nPlus d’infos\nL’association Fêtes et Traditions organise une soirée dansante et un concours de déguisement !
URL:https://www.ville-drap.fr/events/soiree-halloween/
END:VEVENT
END:VCALENDAR